BEGIN:VCALENDAR
VERSION:2.0
PRODID:-//North Star Community Hall - ECPv6.15.20//NONSGML v1.0//EN
CALSCALE:GREGORIAN
METHOD:PUBLISH
X-ORIGINAL-URL:https://www.northstarcommunityhall.org
X-WR-CALDESC:Events for North Star Community Hall
REFRESH-INTERVAL;VALUE=DURATION:PT1H
X-Robots-Tag:noindex
X-PUBLISHED-TTL:PT1H
BEGIN:VTIMEZONE
TZID:America/New_York
BEGIN:DAYLIGHT
TZOFFSETFROM:-0500
TZOFFSETTO:-0400
TZNAME:EDT
DTSTART:20240310T070000
END:DAYLIGHT
BEGIN:STANDARD
TZOFFSETFROM:-0400
TZOFFSETTO:-0500
TZNAME:EST
DTSTART:20241103T060000
END:STANDARD
BEGIN:DAYLIGHT
TZOFFSETFROM:-0500
TZOFFSETTO:-0400
TZNAME:EDT
DTSTART:20250309T070000
END:DAYLIGHT
BEGIN:STANDARD
TZOFFSETFROM:-0400
TZOFFSETTO:-0500
TZNAME:EST
DTSTART:20251102T060000
END:STANDARD
BEGIN:DAYLIGHT
TZOFFSETFROM:-0500
TZOFFSETTO:-0400
TZNAME:EDT
DTSTART:20260308T070000
END:DAYLIGHT
BEGIN:STANDARD
TZOFFSETFROM:-0400
TZOFFSETTO:-0500
TZNAME:EST
DTSTART:20261101T060000
END:STANDARD
END:VTIMEZONE
BEGIN:VEVENT
DTSTART;TZID=America/New_York:20250726T103000
DTEND;TZID=America/New_York:20250726T120000
DTSTAMP:20260420T152825
CREATED:20250619T194851Z
LAST-MODIFIED:20250619T230753Z
UID:10000030-1753525800-1753531200@www.northstarcommunityhall.org
SUMMARY:Jeh Kulu Dance & Drum - West African Dance w/Seny Daffe
DESCRIPTION:
URL:https://www.northstarcommunityhall.org/event/west-african-dance-w-seny-daffe-6/
ORGANIZER;CN="Jeh Kulu Dance & Drum Theater":MAILTO:jehkulu@yahoo.com
END:VEVENT
BEGIN:VEVENT
DTSTART;TZID=America/New_York:20250621T103000
DTEND;TZID=America/New_York:20250621T120000
DTSTAMP:20260420T152825
CREATED:20250617T022243Z
LAST-MODIFIED:20250619T231139Z
UID:10000001-1750501800-1750507200@www.northstarcommunityhall.org
SUMMARY:Jeh Kulu Dance & Drum - West African Dance w/Seny Daffe
DESCRIPTION:Come learn traditional dance from Guinea\, West Africa to live drumming. $20 per class or $100 for a 6 class card. No preregistration necessary. All are welcome!
URL:https://www.northstarcommunityhall.org/event/west-african-dance-w-seny-daffe/
LOCATION:North Star Community Hall\, 20 Crowley Street\, Burlington\, VT\, 05401\, United States
ATTACH;FMTTYPE=image/jpeg:https://www.northstarcommunityhall.org/wp-content/uploads/2025/06/Jeh-Kulu-Logo.jpg
ORGANIZER;CN="Jeh Kulu Dance & Drum Theater":MAILTO:jehkulu@yahoo.com
END:VEVENT
END:VCALENDAR