BEGIN:VCALENDAR
VERSION:2.0
PRODID:-//North Star Community Hall - ECPv6.15.20//NONSGML v1.0//EN
CALSCALE:GREGORIAN
METHOD:PUBLISH
X-ORIGINAL-URL:https://www.northstarcommunityhall.org
X-WR-CALDESC:Events for North Star Community Hall
REFRESH-INTERVAL;VALUE=DURATION:PT1H
X-Robots-Tag:noindex
X-PUBLISHED-TTL:PT1H
BEGIN:VTIMEZONE
TZID:America/New_York
BEGIN:DAYLIGHT
TZOFFSETFROM:-0500
TZOFFSETTO:-0400
TZNAME:EDT
DTSTART:20240310T070000
END:DAYLIGHT
BEGIN:STANDARD
TZOFFSETFROM:-0400
TZOFFSETTO:-0500
TZNAME:EST
DTSTART:20241103T060000
END:STANDARD
BEGIN:DAYLIGHT
TZOFFSETFROM:-0500
TZOFFSETTO:-0400
TZNAME:EDT
DTSTART:20250309T070000
END:DAYLIGHT
BEGIN:STANDARD
TZOFFSETFROM:-0400
TZOFFSETTO:-0500
TZNAME:EST
DTSTART:20251102T060000
END:STANDARD
BEGIN:DAYLIGHT
TZOFFSETFROM:-0500
TZOFFSETTO:-0400
TZNAME:EDT
DTSTART:20260308T070000
END:DAYLIGHT
BEGIN:STANDARD
TZOFFSETFROM:-0400
TZOFFSETTO:-0500
TZNAME:EST
DTSTART:20261101T060000
END:STANDARD
END:VTIMEZONE
BEGIN:VEVENT
DTSTART;TZID=America/New_York:20251006T173000
DTEND;TZID=America/New_York:20251006T190000
DTSTAMP:20260421T195902
CREATED:20250902T224534Z
LAST-MODIFIED:20250902T224554Z
UID:10000114-1759771800-1759777200@www.northstarcommunityhall.org
SUMMARY:West African Dance Class
DESCRIPTION:An all-levels West African Dance class with warm and inviting teachers. This 12-week series will feature a once-monthly beginner class\, and a once monthly visiting artist. All classes are drop-in $15-$25 sliding scale. Cash\, check\, Venmo or AppleCash.
URL:https://www.northstarcommunityhall.org/event/west-african-dance-class-2025-09-08/2025-10-06/
LOCATION:VT
ORGANIZER;CN="Erin Star Hughes":MAILTO:erinstarhughes@gmail.com
END:VEVENT
BEGIN:VEVENT
DTSTART;TZID=America/New_York:20251013T173000
DTEND;TZID=America/New_York:20251013T190000
DTSTAMP:20260421T195902
CREATED:20250902T224534Z
LAST-MODIFIED:20250902T224554Z
UID:10000115-1760376600-1760382000@www.northstarcommunityhall.org
SUMMARY:West African Dance Class
DESCRIPTION:An all-levels West African Dance class with warm and inviting teachers. This 12-week series will feature a once-monthly beginner class\, and a once monthly visiting artist. All classes are drop-in $15-$25 sliding scale. Cash\, check\, Venmo or AppleCash.
URL:https://www.northstarcommunityhall.org/event/west-african-dance-class-2025-09-08/2025-10-13/
LOCATION:VT
ORGANIZER;CN="Erin Star Hughes":MAILTO:erinstarhughes@gmail.com
END:VEVENT
BEGIN:VEVENT
DTSTART;TZID=America/New_York:20251020T173000
DTEND;TZID=America/New_York:20251020T190000
DTSTAMP:20260421T195902
CREATED:20250902T224534Z
LAST-MODIFIED:20250902T224554Z
UID:10000116-1760981400-1760986800@www.northstarcommunityhall.org
SUMMARY:West African Dance Class
DESCRIPTION:An all-levels West African Dance class with warm and inviting teachers. This 12-week series will feature a once-monthly beginner class\, and a once monthly visiting artist. All classes are drop-in $15-$25 sliding scale. Cash\, check\, Venmo or AppleCash.
URL:https://www.northstarcommunityhall.org/event/west-african-dance-class-2025-09-08/2025-10-20/
LOCATION:VT
ORGANIZER;CN="Erin Star Hughes":MAILTO:erinstarhughes@gmail.com
END:VEVENT
BEGIN:VEVENT
DTSTART;TZID=America/New_York:20251027T173000
DTEND;TZID=America/New_York:20251027T190000
DTSTAMP:20260421T195902
CREATED:20250902T224534Z
LAST-MODIFIED:20250902T224554Z
UID:10000117-1761586200-1761591600@www.northstarcommunityhall.org
SUMMARY:West African Dance Class
DESCRIPTION:An all-levels West African Dance class with warm and inviting teachers. This 12-week series will feature a once-monthly beginner class\, and a once monthly visiting artist. All classes are drop-in $15-$25 sliding scale. Cash\, check\, Venmo or AppleCash.
URL:https://www.northstarcommunityhall.org/event/west-african-dance-class-2025-09-08/2025-10-27/
LOCATION:VT
ORGANIZER;CN="Erin Star Hughes":MAILTO:erinstarhughes@gmail.com
END:VEVENT
BEGIN:VEVENT
DTSTART;TZID=America/New_York:20251103T173000
DTEND;TZID=America/New_York:20251103T190000
DTSTAMP:20260421T195902
CREATED:20250902T224534Z
LAST-MODIFIED:20250902T224554Z
UID:10000118-1762191000-1762196400@www.northstarcommunityhall.org
SUMMARY:West African Dance Class
DESCRIPTION:An all-levels West African Dance class with warm and inviting teachers. This 12-week series will feature a once-monthly beginner class\, and a once monthly visiting artist. All classes are drop-in $15-$25 sliding scale. Cash\, check\, Venmo or AppleCash.
URL:https://www.northstarcommunityhall.org/event/west-african-dance-class-2025-09-08/2025-11-03/
LOCATION:VT
ORGANIZER;CN="Erin Star Hughes":MAILTO:erinstarhughes@gmail.com
END:VEVENT
BEGIN:VEVENT
DTSTART;TZID=America/New_York:20251110T173000
DTEND;TZID=America/New_York:20251110T190000
DTSTAMP:20260421T195902
CREATED:20250902T224534Z
LAST-MODIFIED:20250902T224554Z
UID:10000119-1762795800-1762801200@www.northstarcommunityhall.org
SUMMARY:West African Dance Class
DESCRIPTION:An all-levels West African Dance class with warm and inviting teachers. This 12-week series will feature a once-monthly beginner class\, and a once monthly visiting artist. All classes are drop-in $15-$25 sliding scale. Cash\, check\, Venmo or AppleCash.
URL:https://www.northstarcommunityhall.org/event/west-african-dance-class-2025-09-08/2025-11-10/
LOCATION:VT
ORGANIZER;CN="Erin Star Hughes":MAILTO:erinstarhughes@gmail.com
END:VEVENT
BEGIN:VEVENT
DTSTART;TZID=America/New_York:20251117T173000
DTEND;TZID=America/New_York:20251117T190000
DTSTAMP:20260421T195902
CREATED:20250902T224534Z
LAST-MODIFIED:20250902T224554Z
UID:10000120-1763400600-1763406000@www.northstarcommunityhall.org
SUMMARY:West African Dance Class
DESCRIPTION:An all-levels West African Dance class with warm and inviting teachers. This 12-week series will feature a once-monthly beginner class\, and a once monthly visiting artist. All classes are drop-in $15-$25 sliding scale. Cash\, check\, Venmo or AppleCash.
URL:https://www.northstarcommunityhall.org/event/west-african-dance-class-2025-09-08/2025-11-17/
LOCATION:VT
ORGANIZER;CN="Erin Star Hughes":MAILTO:erinstarhughes@gmail.com
END:VEVENT
BEGIN:VEVENT
DTSTART;TZID=America/New_York:20251124T173000
DTEND;TZID=America/New_York:20251124T190000
DTSTAMP:20260421T195902
CREATED:20250902T224534Z
LAST-MODIFIED:20250902T224554Z
UID:10000121-1764005400-1764010800@www.northstarcommunityhall.org
SUMMARY:West African Dance Class
DESCRIPTION:An all-levels West African Dance class with warm and inviting teachers. This 12-week series will feature a once-monthly beginner class\, and a once monthly visiting artist. All classes are drop-in $15-$25 sliding scale. Cash\, check\, Venmo or AppleCash.
URL:https://www.northstarcommunityhall.org/event/west-african-dance-class-2025-09-08/2025-11-24/
LOCATION:VT
ORGANIZER;CN="Erin Star Hughes":MAILTO:erinstarhughes@gmail.com
END:VEVENT
END:VCALENDAR