BEGIN:VCALENDAR
VERSION:2.0
PRODID:-//North Star Community Hall - ECPv6.15.20//NONSGML v1.0//EN
CALSCALE:GREGORIAN
METHOD:PUBLISH
X-WR-CALNAME:North Star Community Hall
X-ORIGINAL-URL:https://www.northstarcommunityhall.org
X-WR-CALDESC:Events for North Star Community Hall
REFRESH-INTERVAL;VALUE=DURATION:PT1H
X-Robots-Tag:noindex
X-PUBLISHED-TTL:PT1H
BEGIN:VTIMEZONE
TZID:America/New_York
BEGIN:DAYLIGHT
TZOFFSETFROM:-0500
TZOFFSETTO:-0400
TZNAME:EDT
DTSTART:20240310T070000
END:DAYLIGHT
BEGIN:STANDARD
TZOFFSETFROM:-0400
TZOFFSETTO:-0500
TZNAME:EST
DTSTART:20241103T060000
END:STANDARD
BEGIN:DAYLIGHT
TZOFFSETFROM:-0500
TZOFFSETTO:-0400
TZNAME:EDT
DTSTART:20250309T070000
END:DAYLIGHT
BEGIN:STANDARD
TZOFFSETFROM:-0400
TZOFFSETTO:-0500
TZNAME:EST
DTSTART:20251102T060000
END:STANDARD
BEGIN:DAYLIGHT
TZOFFSETFROM:-0500
TZOFFSETTO:-0400
TZNAME:EDT
DTSTART:20260308T070000
END:DAYLIGHT
BEGIN:STANDARD
TZOFFSETFROM:-0400
TZOFFSETTO:-0500
TZNAME:EST
DTSTART:20261101T060000
END:STANDARD
END:VTIMEZONE
BEGIN:VEVENT
DTSTART;TZID=America/New_York:20250715T180000
DTEND;TZID=America/New_York:20250715T213000
DTSTAMP:20260421T084100
CREATED:20250619T224845Z
LAST-MODIFIED:20250619T224845Z
UID:10000055-1752602400-1752615000@www.northstarcommunityhall.org
SUMMARY:Vermont Swings - Open Swing Dance
DESCRIPTION:
URL:https://www.northstarcommunityhall.org/event/vermont-swings-open-swing-dance-4/
LOCATION:North Star Community Hall\, 20 Crowley Street\, Burlington\, VT\, 05401\, United States
ATTACH;FMTTYPE=image/png:https://www.northstarcommunityhall.org/wp-content/uploads/2025/06/Vermont-Swings-Logo.png
ORGANIZER;CN="Vermont Swings":MAILTO:contact@vermontswings.com
END:VEVENT
END:VCALENDAR